View In:
ArcGIS JavaScript
ArcGIS Online Map Viewer
ArcGIS Earth
ArcGIS Pro
Service Description:
Map Name: 2020_Mosaic_GDA2020
Legend
All Layers and Tables
Dynamic Legend
Dynamic All Layers
Layers:
Description:
Service Item Id: 7383bc93d407476abd9fe4e28a3de251
Copyright Text:
Spatial Reference:
7856
(7856)
LatestVCSWkid(0)
Single Fused Map Cache: true
Tile Info:
- Height: 256.0
- Width: 256.0
- DPI: 96.0
-
Levels of Detail: 23
-
Level ID: 0
[ Start Tile, End Tile ]
- Resolution: 78271.51696402048
- Scale: 2.958287637958547E8
-
Level ID: 1
[ Start Tile, End Tile ]
- Resolution: 39135.75848201024
- Scale: 1.4791438189792734E8
-
Level ID: 2
[ Start Tile, End Tile ]
- Resolution: 19567.87924100512
- Scale: 7.395719094896367E7
-
Level ID: 3
[ Start Tile, End Tile ]
- Resolution: 9783.93962050256
- Scale: 3.6978595474481836E7
-
Level ID: 4
[ Start Tile, End Tile ]
- Resolution: 4891.96981025128
- Scale: 1.8489297737240918E7
-
Level ID: 5
[ Start Tile, End Tile ]
- Resolution: 2445.98490512564
- Scale: 9244648.868620459
-
Level ID: 6
[ Start Tile, End Tile ]
- Resolution: 1222.99245256282
- Scale: 4622324.4343102295
-
Level ID: 7
[ Start Tile, End Tile ]
- Resolution: 611.49622628141
- Scale: 2311162.2171551147
-
Level ID: 8
[ Start Tile, End Tile ]
- Resolution: 305.748113140705
- Scale: 1155581.1085775574
-
Level ID: 9
[ Start Tile, End Tile ]
- Resolution: 152.8740565703525
- Scale: 577790.5542887787
-
Level ID: 10
[ Start Tile, End Tile ]
- Resolution: 76.43702828517625
- Scale: 288895.27714438934
-
Level ID: 11
[ Start Tile, End Tile ]
- Resolution: 38.21851414258813
- Scale: 144447.63857219467
-
Level ID: 12
[ Start Tile, End Tile ]
- Resolution: 19.109257071294063
- Scale: 72223.81928609734
-
Level ID: 13
[ Start Tile, End Tile ]
- Resolution: 9.554628535647032
- Scale: 36111.90964304867
-
Level ID: 14
[ Start Tile, End Tile ]
- Resolution: 4.777314267823516
- Scale: 18055.954821524334
-
Level ID: 15
[ Start Tile, End Tile ]
- Resolution: 2.388657133911758
- Scale: 9027.977410762167
-
Level ID: 16
[ Start Tile, End Tile ]
- Resolution: 1.194328566955879
- Scale: 4513.9887053810835
-
Level ID: 17
[ Start Tile, End Tile ]
- Resolution: 0.5971642834779395
- Scale: 2256.9943526905417
-
Level ID: 18
[ Start Tile, End Tile ]
- Resolution: 0.29858214173896974
- Scale: 1128.4971763452709
-
Level ID: 19
[ Start Tile, End Tile ]
- Resolution: 0.14929107086948487
- Scale: 564.2485881726354
-
Level ID: 20
[ Start Tile, End Tile ]
- Resolution: 0.07464553543474244
- Scale: 282.1242940863177
-
Level ID: 21
[ Start Tile, End Tile ]
- Resolution: 0.03732276771737122
- Scale: 141.06214704315886
-
Level ID: 22
[ Start Tile, End Tile ]
- Resolution: 0.01866138385868561
- Scale: 70.53107352157943
- Format: PNG
- Compression Quality: 0.0
- Origin: X: -5120900.0
Y: 1.99981E7
- Spatial Reference: 7856
(7856)
LatestVCSWkid(0)
Storage Info:
- Storage Format: esriMapCacheStorageModeCompactV2
- Packet Size: 128
Initial Extent:
XMin: 539329.0590987902
YMin: 6866497.110963722
XMax: 539433.5282350697
YMax: 6866592.345259226
Spatial Reference: 7856
(7856)
LatestVCSWkid(0)
Full Extent:
XMin: 510000.5795889864
YMin: 6842001.338545989
XMax: 560000.5295889841
YMax: 6886001.363545987
Spatial Reference: 7856
(7856)
LatestVCSWkid(0)
Units: esriMeters
Supported Image Format Types: PNG32,PNG24,PNG,JPG,DIB,TIFF,EMF,PS,PDF,GIF,SVG,SVGZ,BMP
Document Info:
Title: \\gisimagery.tweed.nsw.gov.au\ArcGisDataShare\Imagery\2020_Mosaic_gda2020\2020_Mosaic_gda2020.aprx
Author:
Comments:
Subject:
Category:
Keywords: 2020_Mosaic_GDA2020,MapServer
AntialiasingMode: Fast
TextAntialiasingMode: Force
Supports Dynamic Layers: true
MaxRecordCount: 2000
MaxImageHeight: 4096
MaxImageWidth: 4096
Supported Query Formats: JSON, geoJSON, PBF
Supports Query Data Elements: true
Min Scale: 2.958287637958547E8
Max Scale: 70.53107352157943
Min LOD: 0
Max LOD: 22
Supports Datum Transformation: true
Child Resources:
Info
Dynamic Layer
Supported Operations:
Export Map
Identify
QueryLegends
QueryDomains
Find
EstimateExportTilesSize
ExportTiles
Return Updates