{
 "currentVersion": 11.3,
 "cimVersion": "3.3.0",
 "serviceDescription": "",
 "mapName": "2020_Mosaic_GDA2020",
 "description": "",
 "copyrightText": "",
 "supportsDynamicLayers": true,
 "layers": [
  {
   "id": 0,
   "name": "2020_Mosaic_GDA2020",
   "parentLayerId": -1,
   "defaultVisibility": true,
   "subLayerIds": null,
   "minScale": 0,
   "maxScale": 0,
   "type": "Raster Layer",
   "supportsDynamicLegends": true
  }
 ],
 "tables": [],
 "spatialReference": {
  "wkid": 7856,
  "latestWkid": 7856,
  "xyTolerance": 0.001,
  "zTolerance": 0.001,
  "mTolerance": 0.001,
  "falseX": -5120900,
  "falseY": 1900,
  "xyUnits": 10000,
  "falseZ": -100000,
  "zUnits": 10000,
  "falseM": -100000,
  "mUnits": 10000
 },
 "singleFusedMapCache": true,
 "tileInfo": {
  "rows": 256,
  "cols": 256,
  "dpi": 96,
  "format": "PNG",
  "compressionQuality": 0,
  "origin": {
   "x": -5120900,
   "y": 19998100
  },
  "spatialReference": {
   "wkid": 7856,
   "latestWkid": 7856,
   "xyTolerance": 0.001,
   "zTolerance": 0.001,
   "mTolerance": 0.001,
   "falseX": -5120900,
   "falseY": 1900,
   "xyUnits": 4.504455473910538E8,
   "falseZ": -100000,
   "zUnits": 10000,
   "falseM": -100000,
   "mUnits": 10000
  },
  "lods": [
   {
    "level": 0,
    "resolution": 78271.51696402048,
    "scale": 2.958287637958547E8
   },
   {
    "level": 1,
    "resolution": 39135.75848201024,
    "scale": 1.4791438189792734E8
   },
   {
    "level": 2,
    "resolution": 19567.87924100512,
    "scale": 7.395719094896367E7
   },
   {
    "level": 3,
    "resolution": 9783.93962050256,
    "scale": 3.6978595474481836E7
   },
   {
    "level": 4,
    "resolution": 4891.96981025128,
    "scale": 1.8489297737240918E7
   },
   {
    "level": 5,
    "resolution": 2445.98490512564,
    "scale": 9244648.868620459
   },
   {
    "level": 6,
    "resolution": 1222.99245256282,
    "scale": 4622324.4343102295
   },
   {
    "level": 7,
    "resolution": 611.49622628141,
    "scale": 2311162.2171551147
   },
   {
    "level": 8,
    "resolution": 305.748113140705,
    "scale": 1155581.1085775574
   },
   {
    "level": 9,
    "resolution": 152.8740565703525,
    "scale": 577790.5542887787
   },
   {
    "level": 10,
    "resolution": 76.43702828517625,
    "scale": 288895.27714438934
   },
   {
    "level": 11,
    "resolution": 38.21851414258813,
    "scale": 144447.63857219467
   },
   {
    "level": 12,
    "resolution": 19.109257071294063,
    "scale": 72223.81928609734
   },
   {
    "level": 13,
    "resolution": 9.554628535647032,
    "scale": 36111.90964304867
   },
   {
    "level": 14,
    "resolution": 4.777314267823516,
    "scale": 18055.954821524334
   },
   {
    "level": 15,
    "resolution": 2.388657133911758,
    "scale": 9027.977410762167
   },
   {
    "level": 16,
    "resolution": 1.194328566955879,
    "scale": 4513.9887053810835
   },
   {
    "level": 17,
    "resolution": 0.5971642834779395,
    "scale": 2256.9943526905417
   },
   {
    "level": 18,
    "resolution": 0.29858214173896974,
    "scale": 1128.4971763452709
   },
   {
    "level": 19,
    "resolution": 0.14929107086948487,
    "scale": 564.2485881726354
   },
   {
    "level": 20,
    "resolution": 0.07464553543474244,
    "scale": 282.1242940863177
   },
   {
    "level": 21,
    "resolution": 0.03732276771737122,
    "scale": 141.06214704315886
   },
   {
    "level": 22,
    "resolution": 0.01866138385868561,
    "scale": 70.53107352157943
   }
  ]
 },
 "storageInfo": {
  "storageFormat": "esriMapCacheStorageModeCompactV2",
  "packetSize": 128
 },
 "initialExtent": {
  "xmin": 539329.0590987902,
  "ymin": 6866497.110963722,
  "xmax": 539433.5282350697,
  "ymax": 6866592.345259226,
  "spatialReference": {
   "wkid": 7856,
   "latestWkid": 7856,
   "xyTolerance": 0.001,
   "zTolerance": 0.001,
   "mTolerance": 0.001,
   "falseX": -5120900,
   "falseY": 1900,
   "xyUnits": 10000,
   "falseZ": -100000,
   "zUnits": 10000,
   "falseM": -100000,
   "mUnits": 10000
  }
 },
 "fullExtent": {
  "xmin": 510000.5795889864,
  "ymin": 6842001.338545989,
  "xmax": 560000.5295889841,
  "ymax": 6886001.363545987,
  "spatialReference": {
   "wkid": 7856,
   "latestWkid": 7856,
   "xyTolerance": 0.001,
   "zTolerance": 0.001,
   "mTolerance": 0.001,
   "falseX": -5120900,
   "falseY": 1900,
   "xyUnits": 10000,
   "falseZ": -100000,
   "zUnits": 10000,
   "falseM": -100000,
   "mUnits": 10000
  }
 },
 "datesInUnknownTimezone": false,
 "minScale": 2.958287637958547E8,
 "maxScale": 70.53107352157943,
 "minLOD": 0,
 "maxLOD": 22,
 "units": "esriMeters",
 "supportedImageFormatTypes": "PNG32,PNG24,PNG,JPG,DIB,TIFF,EMF,PS,PDF,GIF,SVG,SVGZ,BMP",
 "documentInfo": {
  "Title": "\\\\gisimagery.tweed.nsw.gov.au\\ArcGisDataShare\\Imagery\\2020_Mosaic_gda2020\\2020_Mosaic_gda2020.aprx",
  "Author": "",
  "Comments": "",
  "Subject": "",
  "Category": "",
  "Version": "2.9.0",
  "AntialiasingMode": "Fast",
  "TextAntialiasingMode": "Force",
  "Keywords": "2020_Mosaic_GDA2020,MapServer"
 },
 "supportsQueryDomains": true,
 "capabilities": "Query,Map,Data",
 "supportedQueryFormats": "JSON, geoJSON, PBF",
 "exportTilesAllowed": true,
 "maxExportTilesCount": 100000,
 "referenceScale": 0.0,
 "supportsDatumTransformation": true,
 "floorAwareMapProperties": {
  "defaultFloorFilterSettings": {
   "isEnabled": true
  }
 },
 "archivingInfo": {
  "supportsHistoricMoment": false
 },
 "supportsClipping": true,
 "supportsSpatialFilter": true,
 "supportsTimeRelation": true,
 "supportsQueryDataElements": true,
 "mapUnits": {
  "uwkid": 9001
 },
 "maxRecordCount": 2000,
 "maxImageHeight": 4096,
 "maxImageWidth": 4096,
 "supportedExtensions": "WMSServer",
 "serviceItemId": "7383bc93d407476abd9fe4e28a3de251"
}
