View In:
ArcGIS JavaScript
ArcGIS Online Map Viewer
ArcGIS Earth
ArcGIS Pro
Service Description:
Map Name: 2023_Mosaic_GDA2020
Legend
All Layers and Tables
Dynamic Legend
Dynamic All Layers
Layers:
Description:
Service Item Id: 88bb942ef4bf4c918d5d8299196dd3d0
Copyright Text:
Spatial Reference:
4326
(4326)
LatestVCSWkid(0)
Single Fused Map Cache: true
Tile Info:
- Height: 256.0
- Width: 256.0
- DPI: 96.0
-
Levels of Detail: 23
-
Level ID: 7
[ Start Tile, End Tile ]
- Resolution: 0.0054931640625
- Scale: 2311162.2171551147
-
Level ID: 8
[ Start Tile, End Tile ]
- Resolution: 0.00274658203125
- Scale: 1155581.1085775574
-
Level ID: 9
[ Start Tile, End Tile ]
- Resolution: 0.001373291015625
- Scale: 577790.5542887787
-
Level ID: 10
[ Start Tile, End Tile ]
- Resolution: 6.866455078125E-4
- Scale: 288895.27714438934
-
Level ID: 11
[ Start Tile, End Tile ]
- Resolution: 3.4332275390625E-4
- Scale: 144447.63857219467
-
Level ID: 12
[ Start Tile, End Tile ]
- Resolution: 1.71661376953125E-4
- Scale: 72223.81928609734
-
Level ID: 13
[ Start Tile, End Tile ]
- Resolution: 8.58306884765625E-5
- Scale: 36111.90964304867
-
Level ID: 14
[ Start Tile, End Tile ]
- Resolution: 4.291534423828125E-5
- Scale: 18055.954821524334
-
Level ID: 15
[ Start Tile, End Tile ]
- Resolution: 2.1457672119140625E-5
- Scale: 9027.977410762167
-
Level ID: 16
[ Start Tile, End Tile ]
- Resolution: 1.0728836059570312E-5
- Scale: 4513.9887053810835
-
Level ID: 17
[ Start Tile, End Tile ]
- Resolution: 5.364418029785156E-6
- Scale: 2256.9943526905417
-
Level ID: 18
[ Start Tile, End Tile ]
- Resolution: 2.682209014892578E-6
- Scale: 1128.4971763452709
-
Level ID: 19
[ Start Tile, End Tile ]
- Resolution: 1.341104507446289E-6
- Scale: 564.2485881726354
-
Level ID: 20
[ Start Tile, End Tile ]
- Resolution: 6.705522537231445E-7
- Scale: 282.1242940863177
-
Level ID: 21
[ Start Tile, End Tile ]
- Resolution: 3.3527612686157227E-7
- Scale: 141.06214704315886
-
Level ID: 22
[ Start Tile, End Tile ]
- Resolution: 1.6763806343078613E-7
- Scale: 70.53107352157943
- Format: Mixed
- Compression Quality: 75.0
- Origin: X: -180.0
Y: 90.0
- Spatial Reference: 4326
(4326)
LatestVCSWkid(0)
Storage Info:
- Storage Format: esriMapCacheStorageModeCompactV2
- Packet Size: 128
Initial Extent:
XMin: 153.18952700939423
YMin: -28.334579288055913
XMax: 153.19677970257146
YMax: -28.328170596648782
Spatial Reference: 4326
(4326)
LatestVCSWkid(0)
Full Extent:
XMin: 153.10191614948772
YMin: -28.546510784351643
XMax: 153.59139579402472
YMax: -28.15294956409798
Spatial Reference: 4326
(4326)
LatestVCSWkid(0)
Units: esriDecimalDegrees
Supported Image Format Types: PNG32,PNG24,PNG,JPG,DIB,TIFF,EMF,PS,PDF,GIF,SVG,SVGZ,BMP
Document Info:
Title: Map
Author:
Comments:
Subject:
Category:
Keywords: Nearmap,2023,GDA2020
AntialiasingMode: Fast
TextAntialiasingMode: Force
Supports Dynamic Layers: true
MaxRecordCount: 2000
MaxImageHeight: 4096
MaxImageWidth: 4096
Supported Query Formats: JSON, geoJSON, PBF
Supports Query Data Elements: true
Min Scale: 2.958287637958547E8
Max Scale: 70.53107352157943
Min LOD: 0
Max LOD: 22
Supports Datum Transformation: true
Child Resources:
Info
Dynamic Layer
Supported Operations:
Export Map
Identify
QueryLegends
QueryDomains
Find
Return Updates